BEGIN:VCALENDAR
VERSION:2.0
PRODID:-//wp-events-plugin.com//7.2.3.1//EN
TZID:Europe/Amsterdam
X-WR-TIMEZONE:Europe/Amsterdam
BEGIN:VEVENT
UID:61@ponybargieten.nl
DTSTART;TZID=Europe/Amsterdam:20240803T200000
DTEND;TZID=Europe/Amsterdam:20240804T020000
DTSTAMP:20240726T180334Z
URL:https://ponybargieten.nl/events/danilo-wattez-dikdakkers-en-chef-confe
 tti-john-kanon/
SUMMARY:Danilo Wattez\, Dikdakkers en Chef Confetti & John Kanon
DESCRIPTION:
ATTACH;FMTTYPE=image/jpeg:https://ponybargieten.nl/wp-content/uploads/2024
 /07/452713083_1211195893586148_2576305197323484149_n.jpg
END:VEVENT
BEGIN:VTIMEZONE
TZID:Europe/Amsterdam
X-LIC-LOCATION:Europe/Amsterdam
BEGIN:DAYLIGHT
DTSTART:20240331T030000
TZOFFSETFROM:+0100
TZOFFSETTO:+0200
TZNAME:CEST
END:DAYLIGHT
END:VTIMEZONE
END:VCALENDAR