BEGIN:VCALENDAR
VERSION:2.0
PRODID:-//wp-events-plugin.com//7.2.3.1//EN
TZID:Europe/Amsterdam
X-WR-TIMEZONE:Europe/Amsterdam
BEGIN:VEVENT
UID:62@ponybargieten.nl
DTSTART;TZID=Europe/Amsterdam:20240804T093000
DTEND;TZID=Europe/Amsterdam:20240805T000000
DTSTAMP:20240726T180745Z
URL:https://ponybargieten.nl/events/zomerzondagmarkt-met-s-middags-koos-da
 rwinkel-live-op-het-terras-ponybar/
SUMMARY:Zomerzondagmarkt met 's middags Koos Darwinkel live op het terras @
  Ponybar
DESCRIPTION:
ATTACH;FMTTYPE=image/jpeg:https://ponybargieten.nl/wp-content/uploads/2024
 /07/399423101_6931337250254673_4385934788811352776_n.jpg
END:VEVENT
BEGIN:VTIMEZONE
TZID:Europe/Amsterdam
X-LIC-LOCATION:Europe/Amsterdam
BEGIN:DAYLIGHT
DTSTART:20240331T030000
TZOFFSETFROM:+0100
TZOFFSETTO:+0200
TZNAME:CEST
END:DAYLIGHT
END:VTIMEZONE
END:VCALENDAR